BEGIN:VCALENDAR
VERSION:2.0
PRODID:Events Booking
BEGIN:VEVENT
UID:69eb8989177b2
SUMMARY:1st Hellenic Networking Event in the Houston Area
DESCRIPTION:
LOCATION:1749 Post Oak Blvd\, Houston\, TX 77056\, USA
DTSTART:20191024T230000Z
DTEND:20191025T010000Z
DTSTAMP:20260424T151729Z
ORGANIZER;CN=Hellenic Cultural Center of the Southwest:MAILTO:info@hcc-sw.c
 om
GEO:29.748181;-95.46022
X-APPLE-STRUCTURED-LOCATION;VALUE=URI;X-ADDRESS=1749 Post Oak Blvd\, Housto
 n\, TX 77056\, USA;X-APPLE-RADIUS=72;X-TITLE=Zadok Jewelers:29.748181;-95.
 46022
END:VEVENT
END:VCALENDAR