BEGIN:VCALENDAR
VERSION:2.0
PRODID:Events Booking
BEGIN:VEVENT
UID:69eb767536ce1
SUMMARY:HCC-SW Board Meetings
DESCRIPTION:Monthly Board Meeting
DTSTART:20220302T000000Z
DTEND:20220302T020000Z
DTSTAMP:20260424T135605Z
ORGANIZER;CN=Hellenic Cultural Center of the Southwest:MAILTO:info@hcc-sw.c
 om
END:VEVENT
END:VCALENDAR