BEGIN:VCALENDAR
VERSION:2.0
PRODID:Events Booking
BEGIN:VEVENT
UID:69eb894bb0fd2
SUMMARY:HCC Board Meeting
DESCRIPTION:
DTSTART:20170104T003000Z
DTSTAMP:20260424T151627Z
ORGANIZER;CN=Hellenic Cultural Center of the Southwest:MAILTO:info@hcc-sw.c
 om
END:VEVENT
END:VCALENDAR