BEGIN:VCALENDAR
VERSION:2.0
PRODID:Events Booking
BEGIN:VEVENT
UID:69eb77319086d
SUMMARY:The Early History of the Greek Language Indo-European and Pre-Greek
  Influences
DESCRIPTION:Celebrating Greek Language day\, we are researching how it all 
 started. where the language got created? What is the relationship with oth
 er languages?
 
 It is an extraordinary path remaining to be discovered!
 
 &nbsp\;
 
 
 Join us to find out...
 
DTSTART:20210209T200000Z
DTEND:20210209T210000Z
DTSTAMP:20260424T135913Z
ORGANIZER;CN=Hellenic Cultural Center of the Southwest:MAILTO:info@hcc-sw.c
 om
END:VEVENT
END:VCALENDAR