BEGIN:VCALENDAR
VERSION:2.0
PRODID:Events Booking
BEGIN:VEVENT
UID:69eb8ecde722f
SUMMARY:1st English Workshop - Highlights of the Hellenic Navy achievements
  in 1821
DESCRIPTION:1st English Workshop - Highlights of the Hellenic Navy achievem
 ents in 1821
DTSTART:20210520T190000Z
DTEND:20210520T193000Z
DTSTAMP:20260424T153957Z
ORGANIZER;CN=Hellenic Cultural Center of the Southwest:MAILTO:info@hcc-sw.c
 om
END:VEVENT
END:VCALENDAR