BEGIN:VCALENDAR
VERSION:2.0
PRODID:Events Booking
BEGIN:VEVENT
UID:69eb894b33d18
SUMMARY:HCC-SW Board meetings
DESCRIPTION:
DTSTART:20170802T000000Z
DTEND:20170802T020000Z
DTSTAMP:20260424T151627Z
ORGANIZER;CN=Hellenic Cultural Center of the Southwest:MAILTO:info@hcc-sw.c
 om
END:VEVENT
END:VCALENDAR