BEGIN:VCALENDAR
VERSION:2.0
PRODID:Events Booking
BEGIN:VEVENT
UID:69eba0ab70bc2
SUMMARY:Greek Orthodox Easter (Pascha)
DESCRIPTION:Christ Is Risen! Truly He Is Risen! Χριστὸς ἀνέστ
 η! Ἀληθῶς ἀνέστη!
 \"It is the day of Resurrection\; let 
 us be radiant for the festival\, and let us embrace one another. Let us sa
 y\, O brethren\, even to those that hate us: Let us forgive all things on 
 the Resurrection\; and thus let us cry: Christ is risen from the dead\, by
  death He has trampled down death\, and on those in the tombs He has besto
 wed life.\"
DTSTART:20260412T050000Z
DTEND:20260412T050000Z
DTSTAMP:20251210T082639Z
ORGANIZER;CN=Hellenic Cultural Center of the Southwest:MAILTO:info@hcc-sw.c
 om
END:VEVENT
END:VCALENDAR