BEGIN:VCALENDAR
VERSION:2.0
PRODID:Events Booking
BEGIN:VEVENT
UID:69eb9aa1dc978
SUMMARY:HCC-SW Board meetings
DESCRIPTION:
DTSTART:20180707T000000Z
DTEND:20180704T020000Z
DTSTAMP:20260424T163025Z
ORGANIZER;CN=Hellenic Cultural Center of the Southwest:MAILTO:info@hcc-sw.c
 om
END:VEVENT
END:VCALENDAR