BEGIN:VCALENDAR
VERSION:2.0
PRODID:Events Booking
BEGIN:VEVENT
UID:69eb9a87cd6f6
SUMMARY:HCC-SW Board meetings
DESCRIPTION:
DTSTART:20180808T000000Z
DTEND:20180808T020000Z
DTSTAMP:20260424T162959Z
ORGANIZER;CN=Hellenic Cultural Center of the Southwest:MAILTO:info@hcc-sw.c
 om
END:VEVENT
END:VCALENDAR