BEGIN:VCALENDAR
VERSION:2.0
PRODID:Events Booking
BEGIN:VEVENT
UID:69eb8989a4de8
SUMMARY:HCC-SW Board meetings
DESCRIPTION:
DTSTART:20181205T010000Z
DTEND:20181205T030000Z
DTSTAMP:20260424T151729Z
ORGANIZER;CN=Hellenic Cultural Center of the Southwest:MAILTO:info@hcc-sw.c
 om
END:VEVENT
END:VCALENDAR