BEGIN:VCALENDAR
VERSION:2.0
PRODID:Events Booking
BEGIN:VEVENT
UID:69eb75d97007d
SUMMARY:Sappho For Soprano
DESCRIPTION:&nbsp\;
 Enjoy recent classical music composed on the theme of
  antiquity's greatest lyric poet\, Sappho (7th and 6th centuries BC). Home
 r in epic and Sappho in lyric are the bedrock and foundation of Western li
 terature. The performance will be with Toronto-based composer Constantine 
 Caravassilis.
 &nbsp\;
LOCATION:3333 Cullen Blvd\, Houston\, TX 77004\, USA
DTSTART:20170402T003000Z
DTEND:20170402T023000Z
DTSTAMP:20260424T135329Z
ORGANIZER;CN=Hellenic Cultural Center of the Southwest:MAILTO:info@hcc-sw.c
 om
GEO:29.725279;-95.34449
X-APPLE-STRUCTURED-LOCATION;VALUE=URI;X-ADDRESS=3333 Cullen Blvd\, Houston\
 , TX 77004\, USA;X-APPLE-RADIUS=72;X-TITLE=Moores School of Music:29.72527
 9;-95.34449
END:VEVENT
END:VCALENDAR