BEGIN:VCALENDAR
VERSION:2.0
PRODID:Events Booking
BEGIN:VEVENT
UID:69eb8afcae938
SUMMARY:The Timeless OXI of Hellenism - With English Subtitles
DESCRIPTION:This successful online event of HCC-SW will be broadcasted from
  ERT World with English Subtitles!
 &nbsp\;
DTSTART:20201129T170000Z
DTEND:20201129T193000Z
DTSTAMP:20260424T152340Z
ORGANIZER;CN=Hellenic Cultural Center of the Southwest:MAILTO:info@hcc-sw.c
 om
END:VEVENT
END:VCALENDAR