BEGIN:VCALENDAR
VERSION:2.0
PRODID:Events Booking
BEGIN:VEVENT
UID:69eb7306ed66b
SUMMARY:HCC-SW Board Meetings
DESCRIPTION:Monthly Board Meeting
DTSTART:20210504T230000Z
DTEND:20210505T010000Z
DTSTAMP:20260424T134126Z
ORGANIZER;CN=Hellenic Cultural Center of the Southwest:MAILTO:info@hcc-sw.c
 om
END:VEVENT
END:VCALENDAR