BEGIN:VCALENDAR
VERSION:2.0
PRODID:Events Booking
BEGIN:VEVENT
UID:69eb72663d6a7
SUMMARY:HCC Board Meeting
DESCRIPTION:
DTSTART:20161207T003000Z
DTSTAMP:20260424T133846Z
ORGANIZER;CN=Hellenic Cultural Center of the Southwest:MAILTO:info@hcc-sw.c
 om
END:VEVENT
END:VCALENDAR