BEGIN:VCALENDAR
VERSION:2.0
PRODID:Events Booking
BEGIN:VEVENT
UID:69eb38c69a1bb
SUMMARY:Speakers on Migrant Crisis in Greece 
DESCRIPTION:Over the Christmas 2015 holidays\, Houston-based Iranian-Americ
 ans Negin Sobhani\, Yunus Ahmadi\, and Yalda Ahmadi headed to Lesvos\, Gre
 ece. Armed with thousands of dollars of donations from family and friends 
 from across the world\, the three spent about a week at the Moria Refugee 
 Camp in the medical tent run by Health Point Project and the family compou
 nd run by Danish Refugee Council.
LOCATION:3511 Yoakum Blvd\, Houston\, TX 77006\, USA
DTSTART:20160310T010000Z
DTEND:20160310T030000Z
DTSTAMP:20260424T093254Z
ORGANIZER;CN=Hellenic Cultural Center of the Southwest:MAILTO:info@hcc-sw.c
 om
GEO:29.740943;-95.391921
X-APPLE-STRUCTURED-LOCATION;VALUE=URI;X-ADDRESS=3511 Yoakum Blvd\, Houston\
 , TX 77006\, USA;X-APPLE-RADIUS=72;X-TITLE=Martel Hall :29.740943;-95.3919
 21
END:VEVENT
END:VCALENDAR