BEGIN:VCALENDAR
VERSION:2.0
PRODID:Events Booking
BEGIN:VEVENT
UID:69eb12dc0022a
SUMMARY:THE MUSIC TRADITION OF THE ANATOLIA HELLENES
DESCRIPTION:Η ΜΟΥΣΙΚΗ ΠΑΡΑΔΟΣΗ ΤΗΣ ΚΑΘ΄ΗΜΑΣ ΑΝ
 ΑΤΟΛΗΣ:
 ΑΠΟ ΤΗ ΒΥΖΑΝΤΙΝΗ ΜΟΥΣΙΚΗ ΕΩΣ ΤΟ 
 ΡΕΜΠΕΤΙΚΟ
 THE MUSIC TRADITION OF THE ANATOLIA HELLENES
DTSTART:20220530T001500Z
DTEND:20220530T011500Z
DTSTAMP:20220525T222205Z
ORGANIZER;CN=Hellenic Cultural Center of the Southwest:MAILTO:info@hcc-sw.c
 om
END:VEVENT
END:VCALENDAR