BEGIN:VCALENDAR
VERSION:2.0
PRODID:Events Booking
BEGIN:VEVENT
UID:69eb04ff2ed77
SUMMARY:1ST ANNUAL TAVLI TOURNAMENT 2022
DESCRIPTION:Fun fun fun&nbsp\; &amp\; ...all funds raised will go towards t
 he Friends of Cyprus Scholarship program...
LOCATION:5408 China Doll Ct\, Houston\, TX 77041\, USA
DTSTART:20220910T180000Z
DTSTAMP:20220715T183215Z
ORGANIZER;CN=Hellenic Cultural Center of the Southwest:MAILTO:info@hcc-sw.c
 om
GEO:29.846924;-95.609222
X-APPLE-STRUCTURED-LOCATION;VALUE=URI;X-ADDRESS=5408 China Doll Ct\, Housto
 n\, TX 77041\, USA;X-APPLE-RADIUS=72;X-TITLE=Andrew's:29.846924;-95.609222
END:VEVENT
END:VCALENDAR