BEGIN:VCALENDAR
VERSION:2.0
PRODID:Events Booking
BEGIN:VEVENT
UID:69eb130fea70f
SUMMARY:Celebration of International Day of Greek Language
DESCRIPTION:Professor of Linguistics of the National Capodestrian Universit
 y of Athens and Member of the Hellenic Academy of Sciences and Letters\, D
 r. Christoforos Charalambakis will highlight elements indicating how the G
 reek language evolved from the ancient times to the present and how it has
  retained uniquely Hellenic cultural elements.&nbsp\;
DTSTART:20230218T170000Z
DTEND:20230218T182000Z
DTSTAMP:20230203T090503Z
ORGANIZER;CN=Hellenic Cultural Center of the Southwest:MAILTO:info@hcc-sw.c
 om
END:VEVENT
END:VCALENDAR