BEGIN:VCALENDAR
VERSION:2.0
PRODID:Events Booking
BEGIN:VEVENT
UID:69eb87e0e9020
SUMMARY:HCC-SW Board meetings
DESCRIPTION:Meeting for the Board of Directors &amp\; Executive Office.
DTSTART:20250305T000000Z
DTEND:20250305T020000Z
DTSTAMP:20241124T054005Z
ORGANIZER;CN=Hellenic Cultural Center of the Southwest:MAILTO:info@hcc-sw.c
 om
END:VEVENT
END:VCALENDAR