BEGIN:VCALENDAR
VERSION:2.0
PRODID:Events Booking
BEGIN:VEVENT
UID:69eb72b3ca6ed
SUMMARY:HCC-SW Board meetings
DESCRIPTION:
DTSTART:20170503T000000Z
DTEND:20170503T020000Z
DTSTAMP:20260424T134003Z
ORGANIZER;CN=Hellenic Cultural Center of the Southwest:MAILTO:info@hcc-sw.c
 om
END:VEVENT
END:VCALENDAR