BEGIN:VCALENDAR
VERSION:2.0
PRODID:Events Booking
BEGIN:VEVENT
UID:69eb72a456342
SUMMARY:HCC-SW Board meetings
DESCRIPTION:
DTSTART:20170705T000000Z
DTEND:20170705T020000Z
DTSTAMP:20260424T133948Z
ORGANIZER;CN=Hellenic Cultural Center of the Southwest:MAILTO:info@hcc-sw.c
 om
END:VEVENT
END:VCALENDAR