BEGIN:VCALENDAR
VERSION:2.0
PRODID:Events Booking
BEGIN:VEVENT
UID:69eb72a5374dc
SUMMARY:HCC-SW Board meetings
DESCRIPTION:
DTSTART:20171108T010000Z
DTEND:20171108T030000Z
DTSTAMP:20260424T133949Z
ORGANIZER;CN=Hellenic Cultural Center of the Southwest:MAILTO:info@hcc-sw.c
 om
END:VEVENT
END:VCALENDAR