BEGIN:VCALENDAR
VERSION:2.0
PRODID:Events Booking
BEGIN:VEVENT
UID:69eb725b44ccd
SUMMARY:HCC Board Meeting
DESCRIPTION:
DTSTART:20160503T233000Z
DTSTAMP:20260424T133835Z
ORGANIZER;CN=Hellenic Cultural Center of the Southwest:MAILTO:info@hcc-sw.c
 om
END:VEVENT
END:VCALENDAR