BEGIN:VCALENDAR
VERSION:2.0
PRODID:Events Booking
BEGIN:VEVENT
UID:69ebadc5ac48c
SUMMARY:The Revolution of Macedonia & Emm. Pappas
DESCRIPTION:
DTSTART:20210918T160000Z
DTEND:20210918T180000Z
DTSTAMP:20260424T175205Z
ORGANIZER;CN=Hellenic Cultural Center of the Southwest:MAILTO:info@hcc-sw.c
 om
END:VEVENT
END:VCALENDAR