BEGIN:VCALENDAR
VERSION:2.0
PRODID:Events Booking
BEGIN:VEVENT
UID:69ebd5161418b
SUMMARY:HCC-SW Board meetings
DESCRIPTION:
DTSTART:20170208T010000Z
DTEND:20170208T030000Z
DTSTAMP:20260424T203950Z
ORGANIZER;CN=Hellenic Cultural Center of the Southwest:MAILTO:info@hcc-sw.c
 om
END:VEVENT
END:VCALENDAR