BEGIN:VCALENDAR
VERSION:2.0
PRODID:Events Booking
BEGIN:VEVENT
UID:69ebe7191860f
SUMMARY:HCC-SW Board meetings
DESCRIPTION:
DTSTART:20180505T000000Z
DTEND:20180502T020000Z
DTSTAMP:20260424T215641Z
ORGANIZER;CN=Hellenic Cultural Center of the Southwest:MAILTO:info@hcc-sw.c
 om
END:VEVENT
END:VCALENDAR