BEGIN:VCALENDAR
VERSION:2.0
PRODID:Events Booking
BEGIN:VEVENT
UID:69ebe719bcd9b
SUMMARY:HCC-SW Board meetings
DESCRIPTION:
DTSTART:20190102T010000Z
DTEND:20190102T030000Z
DTSTAMP:20260424T215641Z
ORGANIZER;CN=Hellenic Cultural Center of the Southwest:MAILTO:info@hcc-sw.c
 om
END:VEVENT
END:VCALENDAR