BEGIN:VCALENDAR
VERSION:2.0
PRODID:Events Booking
BEGIN:VEVENT
UID:69ebe75726b79
SUMMARY:5th Annual AHEPA Men's Whiskey and Cigar Social
DESCRIPTION:
DTSTART:20191108T000000Z
DTSTAMP:20260424T215743Z
ORGANIZER;CN=Hellenic Cultural Center of the Southwest:MAILTO:info@hcc-sw.c
 om
END:VEVENT
END:VCALENDAR