BEGIN:VCALENDAR
VERSION:2.0
PRODID:Events Booking
BEGIN:VEVENT
UID:69ebd4eb700b3
SUMMARY:2019 Maritime celebration
DESCRIPTION:Information to follow
DTSTART:20191207T020000Z
DTSTAMP:20260424T203907Z
ORGANIZER;CN=Hellenic Cultural Center of the Southwest:MAILTO:info@hcc-sw.c
 om
END:VEVENT
END:VCALENDAR